Workbook

Sheet ご留意点（必ずご一読ください）
S1: 令和８（2026）年度版
R2: （一社）宇都宮観光コンベンション協会
R3: MICE振興課
A5: コンベンション開催支援補助金申請についてのご留意点
B7: このたびは、催事等の開催にあたり、宇都宮市での開催をいただき誠にありがとうございます。
A8: 皆さまの催事が盛大に、滞りなく実施されますよう、心より祈念いたしております。
B9: また、このたびの催事実施にあたり、（一社）宇都宮観光コンベンション協会「開催支援補助金」のご活用を検討いただき
A10: 誠にありがとうございます。ご利用に対し、予めご留意いただきたい点がございますので、以下ご一読いただきますよう
A11: お願いいたします。
Q12: =IF(交付申請書!Q11="","",交付申請書!Q11)
B13: （申請にあたり）
B14: ・ 交付申請につきましては、原則、催事開催の「3か月前」までにお願い致します。
B15: ・ 事業計画書（別紙１）につきましては、お分かりになる範囲内での詳細をご記入ください。
B16: ・ 交付申請書（様式第１号）の申請につきましては、原則、開催の「3か月前」より以前の日付での作成をお願い致します。
B17: ・ 収支予算書につきましては、「収入」と「支出」を合わせていただきますようお願い致します。
B18: ・ 以下の項目に該当すると認められる場合、または虚偽の記載があると認められる場合は「対象外」となります。
B19: 〇 事業が興行及び営利、宗教活動や政治活動を目的とするもの、及び国や地方公共団体が主催するもの
B20: 〇 同一年度内において、2回目以降の申請となるもの
B21: 〇 暴力団員による不当な行為の防止等に関する法律 （略称：暴対法 平成3年法律第77号） 第2条第6号に規定する
B22: 暴力団員、又は同条第2号に規定する暴力団もしくは暴力団員と密接な関係を有する者が関与するもの
B23: ※「交付申請書」の項目に『誓約事項』を記載しておりますので、必ず確認の上、チェック☑をお願いいたします。
B24: ※詳しくは「コンベンション開催支援のご案内」をご一読下さい。 | E24: コンベンション開催支援のご案内 | M24: をご一読下さい。
B26: （実績報告にあたり）
B27: ・ 実績報告につきましては、原則、催事終了日の「１か月後」までにお願い致します。
B28: なお、補助対象事業の会期が３月の場合には、原則、「年度の末日（３月末日）」までにお願い致します。
B29: ・ 収支予算書につきましては、「収入」と「支出」を合わせていただきますようお願い致します。
B30: ・ 参加報告書は、「県外」からの参加者の人数を把握するため、居住国・都道府県名は必ずご記入ください。
B31: ・ 申請、及び実績確定後、内容の変更や申請取下げとなる場合には、必ず所定の申請書を提出ください。
B33: （代理申請の場合）
B34: ・ 主催者に代わり、申請・実績報告を行う場合には、申請時に「委任状」をあわせて提出ください。
B35: ・ なお、「委任状」に限り、受託者・委任者それぞれの押印をお願いいたします。
B37: （その他）
B38: ・ 交付申請、及び実績報告等に際し、公印等の「押印」は不要です。（但し、委任状のみ除く）
B39: ・ ご不明な点、ご相談等ございましたら、MICE振興課（028-612-3095）までお問合せください。
... B41: 中止させていただく可能性がございます。十分ご留意をいただきますようお願いいたします。

Sheet 交付申請書
A1: コンベンション開催支援補助金交付要綱（様式第１号）
A3: コンベンション開催支援補助金交付申請書
S5: 2026年 月 日 | AD5: ←申請日をご入力ください（必須）
AD6: （※申請期限：開催日の３ヶ月前まで）
A7: 一般社団法人宇都宮観光コンベンション協会
A8: 会長 喜谷 辰夫 様
J10: （申請者）
K11: 住所
K13: 名称 | AE13: 申請者情報をご入力ください
K14: 代表者の職名 | AE14: （必須）
K15: 代表者の氏名
K16: 連絡先電話番号
A18: （一社）宇都宮観光コンベンション協会コンベンション開催支援補助金交付要綱第７条に基づき、
A19: 下記コンベンションについて補助金の交付を申請をします。
A21: 記
A23: １．コンベンションの名称
A26: ２．開 催 期 日 | P26: ～
A28: ３．開 催 場 所
A31: ４．申 請 金 額 | J31: 県外参加者 | O31: 2000 | R31: × | V31: 名 | W31: ＝ | X31: =SUM(O31*S31) -> 0 | AC31: 円 | AE31: 開催情報をご入力ください
J32: 国外参加者 | O32: 5000 | R32: × | V32: 名 | W32: ＝ | X32: =SUM(O32*S32) -> 0 | AC32: 円 | AE32: （必須）
J33: オプショナル補助金額 （合算） | AC33: 円
J34: 補助金申請金額 （総計） | W34: =SUM(X31:AB33) -> 0 | AC34: 円
A36: ５．主 催 者 | J36: ①住所
J38: ②主催団体名
J40: ③代表者職名
J41: ④代表者氏名
A43: 6.誓 約 事 項 | J43: 以下の項目に該当しないことを誓約いたします。
J44: ・申請内容は興行及び営利、宗教活動や政治活動を目的とするものではありません。
J45: ・申請内容は国や地方公共団体が主催するものではありません。
J46: ・申請内容は同一年度内において、2回目以降の申請となるものではありません。
J47: ・当該コンベンションは、暴力団員による不当な行為の防止等に関する法律 （平成
J48: 3年法律第77号）第2条第6号に規定する暴力団員、又は同条第2号に規定する
J49: 暴力団もしくは暴力団員と密接な関係を有する者が関与するものではありません。
J50: ・本申請に虚偽の記載はなく、今後提出する報告書等にも虚偽の記載は致しません。
A52: 7．添 付 書 類 | J52: ① コンベンション事業計画書（別紙１）
J53: ② 収支予算書（別紙２）
J54: ③ 開催概要が分かる書類（プログラムなど）
I56: （オプション制度利用の場合）
I57: 【シャトルバス等運行補助金】 | Q57: 〇行程書、市内バス会社利用が分かる書類、見積書
I58: 【エクスカーション補助金】 | Q58: 〇行程書、見積書
...

Sheet 託児所設置相談書
A1: コンベンション開催支援補助金交付要綱（様式第６号）
C3: コンベンション開催の21日前までに、事業者から本市（宇都宮市）所管課宛て、メールにて送付ください
A5: 託児所設置相談票
S7: 2026年 月 日 | AD7: ←申請日をご入力ください（必須）
AD8: （※相談期限：開催日の3週間前まで）
A9: 宇都宮市ごども政策課 法人・児童福祉施設グループ 宛て | R9: u1806@city.utsunomiya.tochigi.jp
R10: 連絡先 028-632-2943
A13: １．事業者情報 | G13: 事業者名
G14: 代表者氏名
G15: 所在地
G16: 担当者氏名
G17: 連絡先
G18: メールアドレス
A21: ２．託児実施概要 | G21: 託児実施日
G22: 実施時間
G23: 実施場所
G24: 対象年齢
G25: 定員
A28: ３．保育室の状況 | G28: 保育室所在地
G29: 保育室面積（㎡）
A32: ４．職員配置 | G32: 保育従事者（有資格者）
G33: 補助員
G34: 合計
A37: ５．保険加入状況 | G37: 損害賠償責任保険加入 | O37: 加入済 ・ 未加入
G38: 保険会社名
G39: 保険商品名
G40: 保健期間
A43: ６．誓約事項
C44: 当事業者は、本相談書に記載した内容が事実と相違ないことを誓約します。
C45: また、託児の実施にあたっては安全確保に十分配慮し、関係法令等を遵守します。
C47: 令和 | G47: 年 | J47: 月 | M47: 日
C48: 事業者名
C49: 代表者名
C51: 【市所管課確認欄】
C53: 所管課意見

Sheet 事業計画書
A1: コンベンション開催支援補助金交付申請書（別紙１）
A3: 事 業 計 画 書
A5: コンベンション名 | G5: =交付申請書!J23 -> 0
A6: 開催年月日 | G6: =交付申請書!J26 -> 0 | Q6: ～ | R6: =交付申請書!Q26 -> 0 | AC6: 日間
A7: 開催場所 | G7: =交付申請書!J28 -> 0
A8: 開催規模
A9: 国内コンベンション 総参加者数 | G9: 人 （うち国内参加者数 県外 人 県内 人）
A10: 国際コンベンション 総参加者数 | G10: 人 （海外参加者数 人 国内参加者数 県外 人 県内 人）
A11: ※海外からの参加者の参加国数・国名 | G11: 参加国数： ヶ国 （予定） 主な国名：（ ）
A12: 補助金申請主催者名 及び 代表者氏名 | G12: 名 称 ：
G13: 住 所 ：
G14: 主催者 ：
G15: 代表者 ：
A16: 補助金申請事務局名 及び 担当者氏名 | G16: 名 称 ：
G17: 住 所 ：
G18: 主催者 ：
G19: 代表者 ：
A20: コンベンション概要
A21: 懇親会 | H21: 有 | J21: 無 | K21: (会場： | AD21: )
A22: エクスカーション | H22: 有 | J22: 無 | K22: (行先： | AD22: )
A23: 企業展示等 | H23: 有 | J23: 無 | K23: (概要： | AD23: )
A24: 過去２回の開催履歴 | G24: 前 回： 年 月 【開催都市： 】 総参加者数 人
G25: 前々回： 年 月 【開催都市： 】 総参加者数 人
A26: 留意点 | G26: ・お１人様以上の海外からの参加者がある場合は、「国際コンベンション」となります。 ・海外からの参加者の国名は「主な」ものを記載し、詳細は参加報告書に記載ください。
A27: その他 （自由記入欄）
AG40: 開催地の決定時期
AG42: 決定までの流れ
AG45: 過去５回の開催履歴
AG48: その他

Sheet 収支予算書
A1: コンベンション開催支援補助金交付申請書（別紙２）
A2: 収 支 予 算 書
A3: 【収入の部】 | C3: （単位：円）
A4: 項目 | B4: 金額 | C4: 備考 （補助金項目については、実績報告時に対象経費帳票等を提出いただきます）
A5: （基本補助金） コンベンション開催支援補助金 | C5: 条件：対象経費の1/3以内
A6: （OP補助金） シャトルバス等運行補助金 | C6: 条件：対象経費の1/2以内 最大30万円 ※利用条件あり
A7: （OP補助金） エクスカーション補助金 | C7: 条件：対象経費の1/2以内 最大20万円 ※利用条件あり
A8: （OP補助金） ケータリング支援補助金 | C8: 条件：対象経費の1/2以内 最大20万円 ※利用条件あり
A9: （OP補助金） アトラクション利用補助金 | C9: 条件：対象経費の1/2以内 最大10万円 ※利用条件あり
A10: （OP補助金） 託児サービス費用助成補助金 | C10: 条件：対象経費の1/2以内 最大5万円 ※利用条件あり
A11: 申請補助金 合計
A17: 合計 | B17: =SUM(B11:B16) -> 0
A19: 【支出の部】 | C19: （単位：円）
A20: 項目 | B20: 金額 | C20: 備考
A32: 合計 | B32: =SUM(B21:B31) -> 0
A33: 注１）収支の合計金額が同額になるよう作成すること。
A34: 注２）収入の部にコンベンション開催支援補助金の予定額を記載すること。

Sheet 実績報告書
A1: コンベンション開催支援補助金交付要綱（様式第５号）添付書類①
A3: コンベンション開催支援補助金実績報告書
S5: 2026年 月 日 | AD5: ←申請日をご入力ください（必須）
AD6: （※申請期限：開催終了日の1ヶ月後まで）
A7: 一般社団法人宇都宮観光コンベンション協会
A8: 会長 喜谷 辰夫 様
J10: （報告者）
K11: 住所 | Q11: =IF(交付申請書!Q11="","",交付申請書!Q11)
K13: 名称 | Q13: =IF(交付申請書!Q13="","",交付申請書!Q13) | AE13: 入力不要（交付申請書の内容が自動で反映されます）
K14: 代表者の職名 | Q14: =IF(交付申請書!Q14="","",交付申請書!Q14)
K15: 代表者の氏名 | Q15: =IF(交付申請書!Q15="","",交付申請書!Q15)
K16: 連絡先電話番号 | Q16: =IF(交付申請書!Q16="","",交付申請書!Q16)
A18: （一社）宇都宮観光コンベンション協会コンベンション開催支援補助金交付要綱第10条に基づき、
A19: 下記コンベンションについて、別添の収支決算書、参加報告書とともに実績を報告します。
A21: 記
A23: １．コンベンションの名称 | J23: =IF(交付申請書!J23="","",交付申請書!J23)
A27: ２．開 催 期 日 | J27: =IF(交付申請書!J26="","",交付申請書!J26) | P27: ～ | Q27: =IF(交付申請書!Q26="","",交付申請書!Q26)
A29: ３．開 催 場 所 | J29: =IF(交付申請書!J28="","",交付申請書!J28)
AE30: 入力不要（交付申請書の内容が自動で反映されます）
A32: ４．主 催 者 | J32: ①住所 | O32: =IF(交付申請書!O36="","",交付申請書!O36)
J34: ②主催団体名 | O34: =IF(交付申請書!O38="","",交付申請書!O38)
J36: ③代表者職名 | O36: =IF(交付申請書!O40="","",交付申請書!O40)
J37: ④代表者氏名 | O37: =IF(交付申請書!O41="","",交付申請書!O41)
A39: ５．補助金請求予定額 | N39: 円
A41: ６．添 付 書 類 | J41: ①収支決算書（添付書類②）
J42: ②参加者名簿（添付書類③）
J43: ③事業報告に係る資料等（プログラムなど）
J44: ④催事全景写真、及びオプション補助金利用の場合はそれに関わる写真
J45: ⑤補助金対象経費相当分の支払い記録が分かる領収書（写し）
I46: （オプション制度利用の場合）
I47: 【シャトルバス等運行補助金】 | P47: 〇行程書、市内バス会社利用が分かる書類、領収書（写し）
I48: 【エクスカーション補助金】 | P48: 〇行程書、領収書（写し）、参加人数が分かるもの、写真
I49: 【ケータリング支援補助金】 | P49: 〇実施のアトラクション内容が分かる領収書（写し）、写真
I50: 【アトラクション利用補助金】 | P50: 〇実施のアトラクション内容が分かる領収書（写し）、写真
I51: 【託児サービス費用助成補助金】 | Q51: 〇設置した内容が分かる領収書（写し）、写真

Sheet 収支決算書
A1: コンベンション開催支援補助金交付申請書（様式第5号）添付書類②
A2: 収 支 精 算 書
A3: 【収入の部】 | C3: （単位：円）
A4: 項目 | B4: 金額 | C4: 備考
A5: （基本補助金） コンベンション開催支援補助金 | C5: 提出帳票について 申請いただいた補助項目に対し、 対象経費相当分の支払記録が分かる帳票 （領収書のコピー）、及び内容が分かる写真を 実績報告時に提出いただきます。
A6: （OP補助金） シャトルバス等運行補助金
A7: （OP補助金） エクスカーション補助金
A8: （OP補助金） ケータリング支援補助金
A9: （OP補助金） アトラクション利用補助金
A10: （OP補助金） 託児サービス費用助成補助金
A11: 申請補助金 合計
A17: 合計 | B17: =SUM(B11:B16) -> 0
A19: 【支出の部】 | C19: （単位：円）
C20: ※補助金の対象とする項目に『※補助金充当先』とご記入ください。
A21: 項目 | B21: 金額 | C21: 備考
A33: 合計 | B33: =SUM(B22:B32) -> 0
A34: 注１）収支の合計金額が同額になるよう作成すること。
A35: 注２）収入の部にコンベンション開催支援補助金の予定額を記載すること。

Sheet 参加報告書
A1: コンベンション開催支援補助金交付申請書（様式第5号）添付書類③
A2: 参加者報告書
A3: 参加者数（内訳） | D3: 総参加者数： 人 うち県内者数： 人 うち県外者数： 人 （国外参加者を除く。） うち国外者（渡航者）数： 人 ※ 参考 他オンライン参加者数 ： 人
A9: 報告内容に相違ないことを証明します。
A11: 2026年 月 日
D12: (申請者） | E12: 住所又は所在地 | F12: =交付申請書!Q11 -> 0
E13: 名 称 | F13: =交付申請書!Q13 -> 0
E14: 代表者の職名 | F14: =交付申請書!Q14 -> 0
E15: 代表者の氏名 | F15: =交付申請書!Q15 -> 0
A17: （参加者名簿） ※61人目以降は、列を追加してご記載下さい。
A18: 番号 | B18: 氏名 | D18: 所属（団体）名 | F18: 居住国 都道府県名 | G18: 宿泊施設名 （任意）
A19: 例 | B19: 宇都宮 陽翔 | D19: 〇〇大学 | F19: 栃木県 | G19: -
A20: 例 | B20: 下野 凛 | D20: ㈱〇〇〇〇 | F20: 東京都 | G20: ザ・セントレ宇都宮
A21: 例 | B21: 栃木 朝陽 | D21: 〇〇大学 | F21: 北海道 | G21: 東横INN宇都宮
A22: 例 | B22: emma watson | D22: 〇〇 University | F22: アメリカ | G22: カンデオホテルズ宇都宮
A23: 1
A24: =SUM(A23+1) -> 2
A25: =SUM(A24+1) -> 3
A26: =SUM(A25+1) -> 4
A27: =SUM(A26+1) -> 5
A28: =SUM(A27+1) -> 6
A29: =SUM(A28+1) -> 7
A30: =SUM(A29+1) -> 8
A31: =SUM(A30+1) -> 9
A32: =SUM(A31+1) -> 10
A33: =SUM(A32+1) -> 11
A34: =SUM(A33+1) -> 12
A35: =SUM(A34+1) -> 13
... A82: =SUM(A81+1) -> 60
A83: 宿泊施設名は、分かる範囲（宇都宮市内など）でご記入ください
A84: ※61人目以降は列を追加して作成してください

Sheet 交付請求書
A1: コンベンション開催支援補助金交付要綱（様式第５号）
S3: 2026年 月 日 | AC3: ←請求日をご入力ください
A4: コンベンション開催支援補助金実績報告書兼交付請求書 | AC4: （※申請期限：開催終了日の1ヶ月後まで）
A6: 一般社団法人宇都宮観光コンベンション協会
A7: 会長 喜谷 辰夫 様
J9: （請求者）
K10: 住所 | Q10: =IF(交付申請書!Q11="","",交付申請書!Q11)
K12: 名称 | Q12: =IF(交付申請書!Q13="","",交付申請書!Q13) | AD12: 入力不要（交付本申請書の内容が自動で反映されます）
K13: 代表者の職名 | Q13: =IF(交付申請書!Q14="","",交付申請書!Q14)
K14: 代表者の氏名 | Q14: =IF(交付申請書!Q15="","",交付申請書!Q15)
K15: 連絡先電話番号 | Q15: =IF(交付申請書!Q16="","",交付申請書!Q16)
A17: （一社）宇都宮観光コンベンション協会コンベンション開催支援補助金交付要綱第10条に基づき、
A18: 下記コンベンションについて、添付書類で実績を報告し、コンベンション開催支援補助金の交付を請求します。
A20: 記
A21: コンベンション名 | G21: =IF(交付申請書!J23="","",交付申請書!J23)
A22: 開 催 期 間 | G22: =IF(交付申請書!J26="","",交付申請書!J26) | P22: ～ | Q22: =IF(交付申請書!Q26="","",交付申請書!Q26) | Z22: =IFERROR(IF(G22="","",DATEDIF(G22,Q22,"D")+1),"") | AA22: 日間
A24: 請求総額 | M24: 金 | R24: =SUM(R27:V27) -> 0 | W24: 円 | AD24: 入力不要（完了報告書の内容が自動で反映されます）
A26: 請求する補助金と内訳
B27: ☑ | C27: コンベンション開催支援補助金 | M27: 金 | R27: =IF(実績報告書!J39="","",実績報告書!J39) | W27: 円
A29: 振 込 先 口 座
A30: 金融機関名 | O30: 支店名
A31: 種別 | F31: 普通貯金・ | K31: 当座貯金 | O31: 口座番号 | AD31: 振込先の口座情報をご入力ください
A32: 口座名義人

Sheet 委任状
S3: 2026年 月 日 | AC3: ←委任日をご入力ください
A4: 委 任 状
A6: 一般社団法人宇都宮観光コンベンション協会
A7: 会長 喜谷 辰夫 様
J10: （委任者）
K11: 住所 | Q11: =IF(交付申請書!Q11="","",交付申請書!Q11)
K13: 名称 | Q13: =IF(交付申請書!Q13="","",交付申請書!Q13) | AD13: 入力不要（交付申請書の内容が自動で反映されます）
K14: 代表者の職名 | Q14: =IF(交付申請書!Q14="","",交付申請書!Q14) | AB14: 印 | AD14: （※必ず「押印」をお願いいたします）
K15: 代表者の氏名 | Q15: =IF(交付申請書!Q15="","",交付申請書!Q15)
K16: 連絡先電話番号 | Q16: =IF(交付申請書!Q16="","",交付申請書!Q16)
A19: =CONCATENATE(" 「",交付申請書!J23,"」に関する開催支援補助金の申請手続きに関する一切の権限を、下記の者を代理人と定め、係る権限を委任いたします。") -> 「」に関する開催支援補助金の申請手続きに関する一切の権限を、下記の者を代理人と定め、係る権限を委任いたします。
A22: 記
A23: 受 任 先 （代 理 人）
A24: 住 所 | AD24: 受任先の情報をご入力ください
A25: 団体名 | AD25: （※必ず「押印」をお願いいたします）
A26: 代表者名 | AA26: 印
B29: ※押印書類となりますので、お手数ですが「PDF」に変換いただいた上でお送りください。

Sheet 決定内容変更・取下げ申請書
A1: コンベンション開催支援補助金交付要綱（様式第３号）
T3: 2026年 月 日 | AE3: ←提出日をご入力ください
A4: コンベンション開催支援補助金変更等承認申請書
A6: 一般社団法人宇都宮観光コンベンション協会
A7: 会長 喜谷 辰夫 様
K9: （提出者）
L10: 住所 | R10: =IF(交付申請書!Q11="","",交付申請書!Q11)
L12: 名称 | R12: =IF(交付申請書!Q13="","",交付申請書!Q13) | AF12: 入力不要（交付申請書の内容が自動で反映されます）
L13: 代表者の職名 | R13: =IF(交付申請書!Q14="","",交付申請書!Q14)
L14: 代表者の氏名 | R14: =IF(交付申請書!Q15="","",交付申請書!Q15)
L15: 連絡先電話番号 | R15: =IF(交付申請書!Q16="","",交付申請書!Q16)
G18: 付け、宮観コ第 | N18: 号で開催支援補助金交付決定を受けた下記コンベンション | AE18: →交付決定通知書に記載の日付・番号をご入力ください
A19: について、下記理由により事業内容（または経費の配分）を変更・取下げしたいので、承認されるよう
A20: コンベンション開催支援補助金交付要綱第９条第１項の規定により申請します。
A21: 記
A22: 1.コンベンション名： | H22: =IF(交付申請書!J23="","",交付申請書!J23)
AF23: 入力不要（交付申請書の内容が自動で反映されます）
A24: 2.開 催 期 日： | H24: =IF(交付申請書!J26="","",交付申請書!J26) | Q24: ～ | R24: =IF(交付申請書!Q26="","",交付申請書!Q26) | AA24: =IF(交付請求書!Z22="","",交付請求書!Z22) | AC24: 日間
A26: 3.開 催 会 場： | H26: =IF(交付申請書!J28="","",交付申請書!J28)
A28: 4.交付決定を変更・取下げする補助金
C30: コンベンション開催支援補助金 | L30: （ | N30: 国際 | P30: ・ | R30: 国内 | U30: ）
C31: シャトルバス運行補助金
C32: エクスカーション補助金
C33: ケータリング支援補助金
A37: 5.変更内容：
A40: 6.取下げ理由：
AF41: 変更内容、取下げ理由をご入力ください
